BEGIN:VCALENDAR
VERSION:2.0
PRODID:-//eventon.com NONSGML v1.0//EN
CALSCALE:GREGORIAN
METHOD:PUBLISH
BEGIN:VEVENT
UID:69e7364bd4719
DTSTAMP:20260421T083315Z
DTSTART:20260813T220000Z
DTEND:20260814T035900Z
LOCATION:Iroquois Amphitheater - Louisville\,  Ky. 1080 Amphitheater Road
SUMMARY:The String Cheese Incident
DESCRIPTION:The String Cheese Incident at Iroquois Amphitheater in Louisvil
 le\,  Ky.\nhttps://appalachianechoes.com/events/the-string-cheese-incident/
URL:https://appalachianechoes.com/events/the-string-cheese-incident/
END:VEVENT
END:VCALENDAR