BEGIN:VCALENDAR
VERSION:2.0
PRODID:-//eventon.com NONSGML v1.0//EN
CALSCALE:GREGORIAN
METHOD:PUBLISH
BEGIN:VEVENT
UID:69e5f6159693d
DTSTAMP:20260420T094701Z
DTSTART:20260613T160000Z
DTEND:20260614T035900Z
LOCATION:Laurel Cove Amphitheater - Pineville\,  Ky. 1046-1048 State Park Road
SUMMARY:Laurel Cove Music Festival
DESCRIPTION:Day three of the Laurel Cove Music Festival in Pineville\,  Ky.
 \nhttps://appalachianechoes.com/events/laurel-cove-music-festival-3/
URL:https://appalachianechoes.com/events/laurel-cove-music-festival-3/
END:VEVENT
END:VCALENDAR