BEGIN:VCALENDAR
VERSION:2.0
PRODID:-//eventon.com NONSGML v1.0//EN
CALSCALE:GREGORIAN
METHOD:PUBLISH
BEGIN:VEVENT
UID:69e735f6115a4
DTSTAMP:20260421T083150Z
DTSTART:20260607T230000Z
DTEND:20260608T035900Z
LOCATION:West Virginia Culture Center Theatre - Charleston\,  W.Va. 1900 Kanawha Boulevard East
SUMMARY:Mountain Stage: John R. Miller\,  Amy Speace\,  Floyd Mercantile & More
DESCRIPTION:Mountain Stage: John R. Miller\,  Amy Speace\,  Floyd Mercantil
 e &amp; More at the West Virginia Culture Center Theater in Charleston\,  W
 .Va.\nhttps://appalachianechoes.com/events/mountain-stage-john-r-miller-amy
 -speace-floyd-mercantile-more/
URL:https://appalachianechoes.com/events/mountain-stage-john-r-miller-amy-speace-floyd-mercantile-more/
END:VEVENT
END:VCALENDAR