BEGIN:VCALENDAR
VERSION:2.0
PRODID:-//eventon.com NONSGML v1.0//EN
CALSCALE:GREGORIAN
METHOD:PUBLISH
BEGIN:VEVENT
UID:69e749a85a1d9
DTSTAMP:20260421T095552Z
DTSTART:20260522T230000Z
DTEND:20260523T035900Z
LOCATION:Manchester Music Hall - Lexington\,  Ky. 899 Manchester Street
SUMMARY:Wood Box Heroes
DESCRIPTION:Wood Box Heroes at Manchester Music Hall in Lexington\,  Ky.\nh
 ttps://appalachianechoes.com/events/wood-box-heroes/
URL:https://appalachianechoes.com/events/wood-box-heroes/
END:VEVENT
END:VCALENDAR