BEGIN:VCALENDAR
VERSION:2.0
PRODID:-//eventon.com NONSGML v1.0//EN
CALSCALE:GREGORIAN
METHOD:PUBLISH
BEGIN:VEVENT
UID:69e9ecd3b38e7
DTSTAMP:20260423T095635Z
DTSTART:20260417T230000Z
DTEND:20260418T035900Z
LOCATION:Manchester Music Hall - Lexington\,  Ky. 899 Manchester Street
SUMMARY:Tyler Booth
DESCRIPTION:Tyler Booth at Manchester Music Hall in Lexington\,  Ky.\nhttps
 ://appalachianechoes.com/events/tyler-booth/
URL:https://appalachianechoes.com/events/tyler-booth/
END:VEVENT
END:VCALENDAR